BEGIN:VCALENDAR
VERSION:2.0
PRODID:-//Lord Fletcher&#039;s Old Lake Lodge - ECPv6.15.20//NONSGML v1.0//EN
CALSCALE:GREGORIAN
METHOD:PUBLISH
X-WR-CALNAME:Lord Fletcher&#039;s Old Lake Lodge
X-ORIGINAL-URL:https://www.lordfletchers.com
X-WR-CALDESC:Events for Lord Fletcher&#039;s Old Lake Lodge
REFRESH-INTERVAL;VALUE=DURATION:PT1H
X-Robots-Tag:noindex
X-PUBLISHED-TTL:PT1H
BEGIN:VTIMEZONE
TZID:America/Chicago
BEGIN:DAYLIGHT
TZOFFSETFROM:-0600
TZOFFSETTO:-0500
TZNAME:CDT
DTSTART:20240310T080000
END:DAYLIGHT
BEGIN:STANDARD
TZOFFSETFROM:-0500
TZOFFSETTO:-0600
TZNAME:CST
DTSTART:20241103T070000
END:STANDARD
BEGIN:DAYLIGHT
TZOFFSETFROM:-0600
TZOFFSETTO:-0500
TZNAME:CDT
DTSTART:20250309T080000
END:DAYLIGHT
BEGIN:STANDARD
TZOFFSETFROM:-0500
TZOFFSETTO:-0600
TZNAME:CST
DTSTART:20251102T070000
END:STANDARD
BEGIN:DAYLIGHT
TZOFFSETFROM:-0600
TZOFFSETTO:-0500
TZNAME:CDT
DTSTART:20260308T080000
END:DAYLIGHT
BEGIN:STANDARD
TZOFFSETFROM:-0500
TZOFFSETTO:-0600
TZNAME:CST
DTSTART:20261101T070000
END:STANDARD
END:VTIMEZONE
BEGIN:VEVENT
DTSTART;TZID=America/Chicago:20251226T190000
DTEND;TZID=America/Chicago:20251226T220000
DTSTAMP:20260419T095348
CREATED:20251102T203114Z
LAST-MODIFIED:20251102T203114Z
UID:12223-1766775600-1766786400@www.lordfletchers.com
SUMMARY:Mike Bustin
DESCRIPTION:
URL:https://www.lordfletchers.com/event/mike-bustin-dec26/
LOCATION:Oar House at Lord Fletcher’s\, 3746 Sunset Drive\, Spring Park\, MN\, 55384\, United States
CATEGORIES:Music
END:VEVENT
BEGIN:VEVENT
DTSTART;TZID=America/Chicago:20251221T110000
DTEND;TZID=America/Chicago:20251221T130000
DTSTAMP:20260419T095348
CREATED:20251121T220315Z
LAST-MODIFIED:20251121T220315Z
UID:12255-1766314800-1766322000@www.lordfletchers.com
SUMMARY:Christmas Carolers in the Lodge Dining Room
DESCRIPTION:Carolers from Minnetonka High School during Sunday brunch \n**Please note: Choral groups are subject to change without notice
URL:https://www.lordfletchers.com/event/christmas-carolers-in-the-lodge-dining-room-dec21/
LOCATION:Lord Fletcher’s Old Lake Lodge\, 3746 Sunset Drive\, Spring Park\, MN\, 55384\, United States
CATEGORIES:Music
END:VEVENT
BEGIN:VEVENT
DTSTART;TZID=America/Chicago:20251221T093000
DTEND;TZID=America/Chicago:20251221T133000
DTSTAMP:20260419T095348
CREATED:20221116T173139Z
LAST-MODIFIED:20251105T142752Z
UID:10804-1766309400-1766323800@www.lordfletchers.com
SUMMARY:Santa Brunch (With Dog Sleds)
DESCRIPTION:Come have brunch with Santa at Lord Fletcher’s!\nSunday\, December 21\n9:30am-1:30pm\nAdults: $39.95\nKids 5-12: $20.95\nKids 4 & Under: Free
URL:https://www.lordfletchers.com/event/santa-brunch-dogsleds/
LOCATION:Lord Fletcher’s Old Lake Lodge\, 3746 Sunset Drive\, Spring Park\, MN\, 55384\, United States
CATEGORIES:Special Events
ATTACH;FMTTYPE=image/jpeg:https://www.lordfletchers.com/wp-content/uploads/2025/11/Santa-Brunch-2025.jpg
END:VEVENT
BEGIN:VEVENT
DTSTART;TZID=America/Chicago:20251220T180000
DTEND;TZID=America/Chicago:20251220T200000
DTSTAMP:20260419T095348
CREATED:20251121T220537Z
LAST-MODIFIED:20251124T214536Z
UID:12258-1766253600-1766260800@www.lordfletchers.com
SUMMARY:Christmas Carolers in the Lodge Dining Room
DESCRIPTION:Carolers from Minnetonka High School \n**Please note: Choral groups are subject to change without notice
URL:https://www.lordfletchers.com/event/christmas-carolers-in-the-lodge-dining-room-dec20/
LOCATION:Lord Fletcher’s Old Lake Lodge\, 3746 Sunset Drive\, Spring Park\, MN\, 55384\, United States
CATEGORIES:Music
END:VEVENT
BEGIN:VEVENT
DTSTART;TZID=America/Chicago:20251219T190000
DTEND;TZID=America/Chicago:20251219T220000
DTSTAMP:20260419T095348
CREATED:20251102T203041Z
LAST-MODIFIED:20251102T203041Z
UID:12222-1766170800-1766181600@www.lordfletchers.com
SUMMARY:DJ Dimitry Killstorm
DESCRIPTION:
URL:https://www.lordfletchers.com/event/dj-dimitry-killstorm-dec19/
LOCATION:Oar House at Lord Fletcher’s\, 3746 Sunset Drive\, Spring Park\, MN\, 55384\, United States
CATEGORIES:Music
END:VEVENT
BEGIN:VEVENT
DTSTART;TZID=America/Chicago:20251219T180000
DTEND;TZID=America/Chicago:20251219T200000
DTSTAMP:20260419T095348
CREATED:20251121T220504Z
LAST-MODIFIED:20251124T214503Z
UID:12257-1766167200-1766174400@www.lordfletchers.com
SUMMARY:Christmas Carolers in the Lodge Dining Room
DESCRIPTION:Carolers from Minnetonka High School \n**Please note: Choral groups are subject to change without notice
URL:https://www.lordfletchers.com/event/christmas-carolers-in-the-lodge-dining-room-dec19/
LOCATION:Lord Fletcher’s Old Lake Lodge\, 3746 Sunset Drive\, Spring Park\, MN\, 55384\, United States
CATEGORIES:Music
END:VEVENT
BEGIN:VEVENT
DTSTART;TZID=America/Chicago:20251218T180000
DTEND;TZID=America/Chicago:20251218T200000
DTSTAMP:20260419T095348
CREATED:20251121T220414Z
LAST-MODIFIED:20251124T214429Z
UID:12256-1766080800-1766088000@www.lordfletchers.com
SUMMARY:Christmas Carolers in the Lodge Dining Room
DESCRIPTION:Carolers from Minnetonka High School \n**Please note: Choral groups are subject to change without notice
URL:https://www.lordfletchers.com/event/christmas-carolers-in-the-lodge-dining-room-dec18/
LOCATION:Lord Fletcher’s Old Lake Lodge\, 3746 Sunset Drive\, Spring Park\, MN\, 55384\, United States
CATEGORIES:Music
END:VEVENT
BEGIN:VEVENT
DTSTART;TZID=America/Chicago:20251214T110000
DTEND;TZID=America/Chicago:20251214T130000
DTSTAMP:20260419T095348
CREATED:20251121T220151Z
LAST-MODIFIED:20251121T220208Z
UID:12254-1765710000-1765717200@www.lordfletchers.com
SUMMARY:Christmas Carolers in the Lodge Dining Room
DESCRIPTION:Carolers from Westonka High School during Sunday brunch \n**Please note: Choral groups are subject to change without notice
URL:https://www.lordfletchers.com/event/christmas-carolers-in-the-lodge-dining-room-dec14/
LOCATION:Lord Fletcher’s Old Lake Lodge\, 3746 Sunset Drive\, Spring Park\, MN\, 55384\, United States
CATEGORIES:Music
END:VEVENT
BEGIN:VEVENT
DTSTART;TZID=America/Chicago:20251214T093000
DTEND;TZID=America/Chicago:20251214T133000
DTSTAMP:20260419T095348
CREATED:20221116T173249Z
LAST-MODIFIED:20251105T142734Z
UID:10805-1765704600-1765719000@www.lordfletchers.com
SUMMARY:Santa Brunch (With Reindeer)
DESCRIPTION:Come have brunch with Santa at Lord Fletcher’s!\nSaturday\, December 14\n9:30am-1:30pm\nAdults: $39.95\nKids 5-12: $20.95\nKids 4 & Under: Free
URL:https://www.lordfletchers.com/event/santa-brunch-reindeer/
LOCATION:Lord Fletcher’s Old Lake Lodge\, 3746 Sunset Drive\, Spring Park\, MN\, 55384\, United States
CATEGORIES:Special Events
ATTACH;FMTTYPE=image/jpeg:https://www.lordfletchers.com/wp-content/uploads/2025/11/Santa-Brunch-2025.jpg
END:VEVENT
BEGIN:VEVENT
DTSTART;TZID=America/Chicago:20251213T180000
DTEND;TZID=America/Chicago:20251213T200000
DTSTAMP:20260419T095348
CREATED:20251121T220052Z
LAST-MODIFIED:20251121T220052Z
UID:12253-1765648800-1765656000@www.lordfletchers.com
SUMMARY:Christmas Carolers in the Lodge Dining Room
DESCRIPTION:Carolers from Westonka High School \n**Please note: Choral groups are subject to change without notice
URL:https://www.lordfletchers.com/event/christmas-carolers-in-the-lodge-dining-room-dec13/
LOCATION:Lord Fletcher’s Old Lake Lodge\, 3746 Sunset Drive\, Spring Park\, MN\, 55384\, United States
CATEGORIES:Music
END:VEVENT
BEGIN:VEVENT
DTSTART;TZID=America/Chicago:20251213T093000
DTEND;TZID=America/Chicago:20251213T133000
DTSTAMP:20260419T095348
CREATED:20241030T172557Z
LAST-MODIFIED:20251105T142535Z
UID:11772-1765618200-1765632600@www.lordfletchers.com
SUMMARY:Santa Brunch
DESCRIPTION:Come have brunch with Santa at Lord Fletcher’s!\n9:30am-1:30pm\nAdults: $39.95\nKids 5-12: $20.95\nKids 4 & Under: Free
URL:https://www.lordfletchers.com/event/santa-brunch-dec13/
LOCATION:Lord Fletcher’s Old Lake Lodge\, 3746 Sunset Drive\, Spring Park\, MN\, 55384\, United States
CATEGORIES:Events
ATTACH;FMTTYPE=image/jpeg:https://www.lordfletchers.com/wp-content/uploads/2025/11/Santa-Brunch-2025.jpg
END:VEVENT
BEGIN:VEVENT
DTSTART;TZID=America/Chicago:20251212T190000
DTEND;TZID=America/Chicago:20251212T220000
DTSTAMP:20260419T095348
CREATED:20251102T202755Z
LAST-MODIFIED:20251117T170922Z
UID:12221-1765566000-1765576800@www.lordfletchers.com
SUMMARY:Ali & Kenny
DESCRIPTION:
URL:https://www.lordfletchers.com/event/ali-kenny-dec12/
LOCATION:Oar House at Lord Fletcher’s\, 3746 Sunset Drive\, Spring Park\, MN\, 55384\, United States
CATEGORIES:Music
END:VEVENT
BEGIN:VEVENT
DTSTART;TZID=America/Chicago:20251212T180000
DTEND;TZID=America/Chicago:20251212T200000
DTSTAMP:20260419T095348
CREATED:20251121T215918Z
LAST-MODIFIED:20251121T220012Z
UID:12252-1765562400-1765569600@www.lordfletchers.com
SUMMARY:Christmas Carolers in the Lodge Dining Room
DESCRIPTION:Carolers from Westonka High School \n**Please note: Choral groups are subject to change without notice
URL:https://www.lordfletchers.com/event/christmas-carolers-in-the-lodge-dining-room-dec12/
LOCATION:Lord Fletcher’s Old Lake Lodge\, 3746 Sunset Drive\, Spring Park\, MN\, 55384\, United States
CATEGORIES:Music
END:VEVENT
BEGIN:VEVENT
DTSTART;TZID=America/Chicago:20251211T180000
DTEND;TZID=America/Chicago:20251211T200000
DTSTAMP:20260419T095348
CREATED:20251121T215730Z
LAST-MODIFIED:20251121T220004Z
UID:12251-1765476000-1765483200@www.lordfletchers.com
SUMMARY:Christmas Carolers in the Lodge Dining Room
DESCRIPTION:Carolers from Westonka High School \n**Please note: Choral groups are subject to change without notice
URL:https://www.lordfletchers.com/event/christmas-carolers-in-the-lodge-dining-room-dec11/
LOCATION:Lord Fletcher’s Old Lake Lodge\, 3746 Sunset Drive\, Spring Park\, MN\, 55384\, United States
CATEGORIES:Music
END:VEVENT
BEGIN:VEVENT
DTSTART;TZID=America/Chicago:20251207T110000
DTEND;TZID=America/Chicago:20251207T130000
DTSTAMP:20260419T095348
CREATED:20251121T215604Z
LAST-MODIFIED:20251121T215841Z
UID:12250-1765105200-1765112400@www.lordfletchers.com
SUMMARY:Christmas Carolers in the Lodge Dining Room
DESCRIPTION:Carolers from Minnetonka High School during Sunday Brunch \n**Please note: Choral groups are subject to change without notice
URL:https://www.lordfletchers.com/event/christmas-carolers-in-the-lodge-dining-room-dec7/
LOCATION:Lord Fletcher’s Old Lake Lodge\, 3746 Sunset Drive\, Spring Park\, MN\, 55384\, United States
END:VEVENT
BEGIN:VEVENT
DTSTART;TZID=America/Chicago:20251207T093000
DTEND;TZID=America/Chicago:20251207T133000
DTSTAMP:20260419T095348
CREATED:20241030T172643Z
LAST-MODIFIED:20251105T142624Z
UID:11773-1765099800-1765114200@www.lordfletchers.com
SUMMARY:Santa Brunch
DESCRIPTION:Come have brunch with Santa at Lord Fletcher’s!\n9:30am-1:30pm\nAdults: $39.95\nKids 5-12: $20.95\nKids 4 & Under: Free
URL:https://www.lordfletchers.com/event/santa-brunch-dec7/
LOCATION:Lord Fletcher’s Old Lake Lodge\, 3746 Sunset Drive\, Spring Park\, MN\, 55384\, United States
CATEGORIES:Events
ATTACH;FMTTYPE=image/jpeg:https://www.lordfletchers.com/wp-content/uploads/2025/11/Santa-Brunch-2025.jpg
END:VEVENT
BEGIN:VEVENT
DTSTART;TZID=America/Chicago:20251206T180000
DTEND;TZID=America/Chicago:20251206T200000
DTSTAMP:20260419T095348
CREATED:20251121T215434Z
LAST-MODIFIED:20251121T215500Z
UID:12249-1765044000-1765051200@www.lordfletchers.com
SUMMARY:Christmas Carolers in the Lodge Dining Room
DESCRIPTION:Carolers from Minnetonka High School \n**Please note: Choral groups are subject to change without notice
URL:https://www.lordfletchers.com/event/christmas-carolers-in-the-lodge-dining-room-dec6/
LOCATION:Lord Fletcher’s Old Lake Lodge\, 3746 Sunset Drive\, Spring Park\, MN\, 55384\, United States
CATEGORIES:Music
END:VEVENT
BEGIN:VEVENT
DTSTART;TZID=America/Chicago:20251205T190000
DTEND;TZID=America/Chicago:20251205T220000
DTSTAMP:20260419T095348
CREATED:20251102T202720Z
LAST-MODIFIED:20251102T202959Z
UID:12220-1764961200-1764972000@www.lordfletchers.com
SUMMARY:DJ Dimitry Killstorm
DESCRIPTION:
URL:https://www.lordfletchers.com/event/dj-dimitry-killstorm-dec5/
LOCATION:Oar House at Lord Fletcher’s\, 3746 Sunset Drive\, Spring Park\, MN\, 55384\, United States
CATEGORIES:Music
END:VEVENT
BEGIN:VEVENT
DTSTART;TZID=America/Chicago:20251205T180000
DTEND;TZID=America/Chicago:20251205T200000
DTSTAMP:20260419T095348
CREATED:20251121T215308Z
LAST-MODIFIED:20251121T215343Z
UID:12247-1764957600-1764964800@www.lordfletchers.com
SUMMARY:Christmas Carolers in the Lodge Dining Room
DESCRIPTION:Carolers from Westonka High School \n**Please note: Choral groups are subject to change without notice
URL:https://www.lordfletchers.com/event/christmas-carolers-in-the-lodge-dec5/
LOCATION:Lord Fletcher’s Old Lake Lodge\, 3746 Sunset Drive\, Spring Park\, MN\, 55384\, United States
CATEGORIES:Music
END:VEVENT
BEGIN:VEVENT
DTSTART;TZID=America/Chicago:20251204T180000
DTEND;TZID=America/Chicago:20251204T200000
DTSTAMP:20260419T095348
CREATED:20251121T212741Z
LAST-MODIFIED:20251121T215214Z
UID:12246-1764871200-1764878400@www.lordfletchers.com
SUMMARY:Christmas Carolers in the Lodge Dining Room
DESCRIPTION:Carolers from Minnetonka High School \n**Please note: Choral groups are subject to change without notice
URL:https://www.lordfletchers.com/event/christmas-carolers-in-the-lodge-dec4/
LOCATION:Lord Fletcher’s Old Lake Lodge\, 3746 Sunset Drive\, Spring Park\, MN\, 55384\, United States
CATEGORIES:Music
END:VEVENT
BEGIN:VEVENT
DTSTART;TZID=America/Chicago:20251130T093000
DTEND;TZID=America/Chicago:20251130T133000
DTSTAMP:20260419T095348
CREATED:20251103T204427Z
LAST-MODIFIED:20251103T204435Z
UID:12236-1764495000-1764509400@www.lordfletchers.com
SUMMARY:Sunday Brunch
DESCRIPTION:
URL:https://www.lordfletchers.com/event/sunday-brunch-nov30/
LOCATION:Lord Fletcher’s Old Lake Lodge\, 3746 Sunset Drive\, Spring Park\, MN\, 55384\, United States
END:VEVENT
BEGIN:VEVENT
DTSTART;TZID=America/Chicago:20251128T190000
DTEND;TZID=America/Chicago:20251128T220000
DTSTAMP:20260419T095348
CREATED:20251102T202625Z
LAST-MODIFIED:20251102T202641Z
UID:12219-1764356400-1764367200@www.lordfletchers.com
SUMMARY:Ali & Joe
DESCRIPTION:
URL:https://www.lordfletchers.com/event/ali-joe-nov28/
LOCATION:Oar House at Lord Fletcher’s\, 3746 Sunset Drive\, Spring Park\, MN\, 55384\, United States
CATEGORIES:Music
END:VEVENT
BEGIN:VEVENT
DTSTART;TZID=America/Chicago:20251128T100000
DTEND;TZID=America/Chicago:20251128T140000
DTSTAMP:20260419T095348
CREATED:20241030T171314Z
LAST-MODIFIED:20251121T205930Z
UID:11758-1764324000-1764338400@www.lordfletchers.com
SUMMARY:Chic Boutique
DESCRIPTION:10 AM – 2 PM in the Paddle Club and Pike’s Place
URL:https://www.lordfletchers.com/event/chic-boutique/
LOCATION:Lord Fletcher’s Old Lake Lodge\, 3746 Sunset Drive\, Spring Park\, MN\, 55384\, United States
CATEGORIES:Events
ATTACH;FMTTYPE=image/jpeg:https://www.lordfletchers.com/wp-content/uploads/2024/10/Chic-Boutique-2025.jpg
END:VEVENT
BEGIN:VEVENT
DTSTART;TZID=America/Chicago:20251127T103000
DTEND;TZID=America/Chicago:20251127T153000
DTSTAMP:20260419T095348
CREATED:20230918T135412Z
LAST-MODIFIED:20251004T212223Z
UID:11216-1764239400-1764257400@www.lordfletchers.com
SUMMARY:Thanksgiving Day Brunch
DESCRIPTION:Make a Reservation \nAdults (Over 12) – $64.95\nAges 5-12 – $20.95\n4 & Under – Free
URL:https://www.lordfletchers.com/event/thanksgiving-day-brunch/
LOCATION:Lord Fletcher’s Old Lake Lodge\, 3746 Sunset Drive\, Spring Park\, MN\, 55384\, United States
CATEGORIES:Special Events
ATTACH;FMTTYPE=image/jpeg:https://www.lordfletchers.com/wp-content/uploads/2023/09/LF-Thanksgiving-2025-sm.jpg
END:VEVENT
BEGIN:VEVENT
DTSTART;TZID=America/Chicago:20251123T093000
DTEND;TZID=America/Chicago:20251123T133000
DTSTAMP:20260419T095348
CREATED:20251103T204401Z
LAST-MODIFIED:20251103T204401Z
UID:12235-1763890200-1763904600@www.lordfletchers.com
SUMMARY:Sunday Brunch
DESCRIPTION:
URL:https://www.lordfletchers.com/event/sunday-brunch-nov23/
LOCATION:Lord Fletcher’s Old Lake Lodge\, 3746 Sunset Drive\, Spring Park\, MN\, 55384\, United States
END:VEVENT
BEGIN:VEVENT
DTSTART;TZID=America/Chicago:20251121T190000
DTEND;TZID=America/Chicago:20251121T220000
DTSTAMP:20260419T095348
CREATED:20251102T201302Z
LAST-MODIFIED:20251102T202840Z
UID:12218-1763751600-1763762400@www.lordfletchers.com
SUMMARY:DJ Dimitry Killstorm
DESCRIPTION:
URL:https://www.lordfletchers.com/event/dj-dimitry-killstorm-nov21/
LOCATION:Oar House at Lord Fletcher’s\, 3746 Sunset Drive\, Spring Park\, MN\, 55384\, United States
CATEGORIES:Music
END:VEVENT
BEGIN:VEVENT
DTSTART;TZID=America/Chicago:20251116T093000
DTEND;TZID=America/Chicago:20251116T133000
DTSTAMP:20260419T095348
CREATED:20251103T204329Z
LAST-MODIFIED:20251103T204329Z
UID:12234-1763285400-1763299800@www.lordfletchers.com
SUMMARY:Sunday Brunch
DESCRIPTION:
URL:https://www.lordfletchers.com/event/sunday-brunch-nov16/
LOCATION:Lord Fletcher’s Old Lake Lodge\, 3746 Sunset Drive\, Spring Park\, MN\, 55384\, United States
END:VEVENT
BEGIN:VEVENT
DTSTART;TZID=America/Chicago:20251114T190000
DTEND;TZID=America/Chicago:20251114T220000
DTSTAMP:20260419T095348
CREATED:20251102T201221Z
LAST-MODIFIED:20251102T201232Z
UID:12217-1763146800-1763157600@www.lordfletchers.com
SUMMARY:Billy Johnson
DESCRIPTION:
URL:https://www.lordfletchers.com/event/billy-johnson-nov14/
LOCATION:Oar House at Lord Fletcher’s\, 3746 Sunset Drive\, Spring Park\, MN\, 55384\, United States
CATEGORIES:Music
END:VEVENT
BEGIN:VEVENT
DTSTART;TZID=America/Chicago:20251109T093000
DTEND;TZID=America/Chicago:20251109T133000
DTSTAMP:20260419T095348
CREATED:20251103T204250Z
LAST-MODIFIED:20251103T204250Z
UID:12233-1762680600-1762695000@www.lordfletchers.com
SUMMARY:Sunday Brunch
DESCRIPTION:
URL:https://www.lordfletchers.com/event/sunday-brunch/
LOCATION:Lord Fletcher’s Old Lake Lodge\, 3746 Sunset Drive\, Spring Park\, MN\, 55384\, United States
END:VEVENT
BEGIN:VEVENT
DTSTART;TZID=America/Chicago:20251107T190000
DTEND;TZID=America/Chicago:20251107T220000
DTSTAMP:20260419T095348
CREATED:20251102T200817Z
LAST-MODIFIED:20251102T200817Z
UID:12215-1762542000-1762552800@www.lordfletchers.com
SUMMARY:DJ Dimitry Killstorm
DESCRIPTION:
URL:https://www.lordfletchers.com/event/dj-dimitry-killstorm-nov7/
LOCATION:Oar House at Lord Fletcher’s\, 3746 Sunset Drive\, Spring Park\, MN\, 55384\, United States
CATEGORIES:Music
END:VEVENT
END:VCALENDAR