BEGIN:VCALENDAR
VERSION:2.0
PRODID:-//Lord Fletcher&#039;s Old Lake Lodge - ECPv6.15.20//NONSGML v1.0//EN
CALSCALE:GREGORIAN
METHOD:PUBLISH
X-ORIGINAL-URL:https://www.lordfletchers.com
X-WR-CALDESC:Events for Lord Fletcher&#039;s Old Lake Lodge
REFRESH-INTERVAL;VALUE=DURATION:PT1H
X-Robots-Tag:noindex
X-PUBLISHED-TTL:PT1H
BEGIN:VTIMEZONE
TZID:America/Chicago
BEGIN:DAYLIGHT
TZOFFSETFROM:-0600
TZOFFSETTO:-0500
TZNAME:CDT
DTSTART:20250309T080000
END:DAYLIGHT
BEGIN:STANDARD
TZOFFSETFROM:-0500
TZOFFSETTO:-0600
TZNAME:CST
DTSTART:20251102T070000
END:STANDARD
BEGIN:DAYLIGHT
TZOFFSETFROM:-0600
TZOFFSETTO:-0500
TZNAME:CDT
DTSTART:20260308T080000
END:DAYLIGHT
BEGIN:STANDARD
TZOFFSETFROM:-0500
TZOFFSETTO:-0600
TZNAME:CST
DTSTART:20261101T070000
END:STANDARD
BEGIN:DAYLIGHT
TZOFFSETFROM:-0600
TZOFFSETTO:-0500
TZNAME:CDT
DTSTART:20270314T080000
END:DAYLIGHT
BEGIN:STANDARD
TZOFFSETFROM:-0500
TZOFFSETTO:-0600
TZNAME:CST
DTSTART:20271107T070000
END:STANDARD
END:VTIMEZONE
BEGIN:VEVENT
DTSTART;TZID=America/Chicago:20260510T093000
DTEND;TZID=America/Chicago:20260510T153000
DTSTAMP:20260421T053001
CREATED:20230327T140141Z
LAST-MODIFIED:20260314T180604Z
UID:11034-1778405400-1778427000@www.lordfletchers.com
SUMMARY:Lord Fletcher's Mother's Day Brunch
DESCRIPTION:For parties of 6 or less:\nMake a Reservation Online \nFor larger groups and/or have questions: Call 952-471-8513 \nAdults: $60.95 | Ages 6-12: $20.95 | 5 & Under: Free \n \nFor parties of 6 or less:\nMake a Reservation Online \nFor larger groups and/or have questions: Call 952-471-8513 \nAdults: $60.95 | Ages 6-12: $20.95 | 5 & Under: Free
URL:https://www.lordfletchers.com/event/mothers-day-brunch-2026/
LOCATION:Lord Fletcher’s Old Lake Lodge\, 3746 Sunset Drive\, Spring Park\, MN\, 55384\, United States
CATEGORIES:Special Events
ATTACH;FMTTYPE=image/jpeg:https://www.lordfletchers.com/wp-content/uploads/2023/03/LF-Mothers-Day-2026-prices.jpg
END:VEVENT
BEGIN:VEVENT
DTSTART;TZID=America/Chicago:20260521T180000
DTEND;TZID=America/Chicago:20260521T210000
DTSTAMP:20260421T053001
CREATED:20260327T151301Z
LAST-MODIFIED:20260327T151301Z
UID:12526-1779386400-1779397200@www.lordfletchers.com
SUMMARY:The White Keys
DESCRIPTION:
URL:https://www.lordfletchers.com/event/the-white-keys-may21/
LOCATION:Lord Fletcher’s Old Lake Lodge\, 3746 Sunset Drive\, Spring Park\, MN\, 55384\, United States
CATEGORIES:Music
END:VEVENT
BEGIN:VEVENT
DTSTART;TZID=America/Chicago:20260522T180000
DTEND;TZID=America/Chicago:20260522T210000
DTSTAMP:20260421T053001
CREATED:20260327T153133Z
LAST-MODIFIED:20260327T153419Z
UID:12529-1779472800-1779483600@www.lordfletchers.com
SUMMARY:DJ Dimitry Killstorm
DESCRIPTION:
URL:https://www.lordfletchers.com/event/dj-dimitry-killstorm/
LOCATION:Lord Fletcher’s Old Lake Lodge\, 3746 Sunset Drive\, Spring Park\, MN\, 55384\, United States
CATEGORIES:Music
END:VEVENT
BEGIN:VEVENT
DTSTART;TZID=America/Chicago:20260523T140000
DTEND;TZID=America/Chicago:20260523T170000
DTSTAMP:20260421T053001
CREATED:20260327T153133Z
LAST-MODIFIED:20260327T153455Z
UID:12530-1779544800-1779555600@www.lordfletchers.com
SUMMARY:Shredding Flannel
DESCRIPTION:
URL:https://www.lordfletchers.com/event/shredding-flannel/
LOCATION:Lord Fletcher’s Old Lake Lodge\, 3746 Sunset Drive\, Spring Park\, MN\, 55384\, United States
CATEGORIES:Music
END:VEVENT
BEGIN:VEVENT
DTSTART;TZID=America/Chicago:20260524T140000
DTEND;TZID=America/Chicago:20260524T170000
DTSTAMP:20260421T053001
CREATED:20260327T160056Z
LAST-MODIFIED:20260327T160056Z
UID:12533-1779631200-1779642000@www.lordfletchers.com
SUMMARY:Junk FM
DESCRIPTION:
URL:https://www.lordfletchers.com/event/junk-fm/
LOCATION:Lord Fletcher’s Old Lake Lodge\, 3746 Sunset Drive\, Spring Park\, MN\, 55384\, United States
CATEGORIES:Music
END:VEVENT
BEGIN:VEVENT
DTSTART;TZID=America/Chicago:20260525T140000
DTEND;TZID=America/Chicago:20260525T170000
DTSTAMP:20260421T053001
CREATED:20260327T160056Z
LAST-MODIFIED:20260327T160056Z
UID:12534-1779717600-1779728400@www.lordfletchers.com
SUMMARY:Shane Martin
DESCRIPTION:
URL:https://www.lordfletchers.com/event/shane-martin-7/
LOCATION:Lord Fletcher’s Old Lake Lodge\, 3746 Sunset Drive\, Spring Park\, MN\, 55384\, United States
CATEGORIES:Music
END:VEVENT
BEGIN:VEVENT
DTSTART;TZID=America/Chicago:20260528T180000
DTEND;TZID=America/Chicago:20260528T210000
DTSTAMP:20260421T053001
CREATED:20260327T160056Z
LAST-MODIFIED:20260327T160056Z
UID:12535-1779991200-1780002000@www.lordfletchers.com
SUMMARY:Treehorn
DESCRIPTION:
URL:https://www.lordfletchers.com/event/treehorn/
LOCATION:Lord Fletcher’s Old Lake Lodge\, 3746 Sunset Drive\, Spring Park\, MN\, 55384\, United States
CATEGORIES:Music
END:VEVENT
BEGIN:VEVENT
DTSTART;TZID=America/Chicago:20260529T180000
DTEND;TZID=America/Chicago:20260529T210000
DTSTAMP:20260421T053001
CREATED:20260327T160056Z
LAST-MODIFIED:20260327T160056Z
UID:12536-1780077600-1780088400@www.lordfletchers.com
SUMMARY:TBD
DESCRIPTION:
URL:https://www.lordfletchers.com/event/tbd/
LOCATION:Lord Fletcher’s Old Lake Lodge\, 3746 Sunset Drive\, Spring Park\, MN\, 55384\, United States
CATEGORIES:Music
END:VEVENT
BEGIN:VEVENT
DTSTART;TZID=America/Chicago:20260530T140000
DTEND;TZID=America/Chicago:20260530T170000
DTSTAMP:20260421T053001
CREATED:20260327T160057Z
LAST-MODIFIED:20260327T160057Z
UID:12537-1780149600-1780160400@www.lordfletchers.com
SUMMARY:Rival 5
DESCRIPTION:
URL:https://www.lordfletchers.com/event/rival-5/
LOCATION:Lord Fletcher’s Old Lake Lodge\, 3746 Sunset Drive\, Spring Park\, MN\, 55384\, United States
CATEGORIES:Music
END:VEVENT
BEGIN:VEVENT
DTSTART;TZID=America/Chicago:20260531T140000
DTEND;TZID=America/Chicago:20260531T170000
DTSTAMP:20260421T053001
CREATED:20260327T160058Z
LAST-MODIFIED:20260327T160058Z
UID:12538-1780236000-1780246800@www.lordfletchers.com
SUMMARY:Hitchville
DESCRIPTION:
URL:https://www.lordfletchers.com/event/hitchville-7/
LOCATION:Lord Fletcher’s Old Lake Lodge\, 3746 Sunset Drive\, Spring Park\, MN\, 55384\, United States
CATEGORIES:Music
END:VEVENT
BEGIN:VEVENT
DTSTART;TZID=America/Chicago:20260604T180000
DTEND;TZID=America/Chicago:20260604T210000
DTSTAMP:20260421T053001
CREATED:20260327T160058Z
LAST-MODIFIED:20260327T160058Z
UID:12539-1780596000-1780606800@www.lordfletchers.com
SUMMARY:Timmy Haus
DESCRIPTION:
URL:https://www.lordfletchers.com/event/timmy-haus-4/
LOCATION:Lord Fletcher’s Old Lake Lodge\, 3746 Sunset Drive\, Spring Park\, MN\, 55384\, United States
CATEGORIES:Music
END:VEVENT
BEGIN:VEVENT
DTSTART;TZID=America/Chicago:20260605T180000
DTEND;TZID=America/Chicago:20260605T210000
DTSTAMP:20260421T053001
CREATED:20260327T160058Z
LAST-MODIFIED:20260327T160058Z
UID:12540-1780682400-1780693200@www.lordfletchers.com
SUMMARY:Timmy Haus
DESCRIPTION:
URL:https://www.lordfletchers.com/event/timmy-haus-5/
LOCATION:Lord Fletcher’s Old Lake Lodge\, 3746 Sunset Drive\, Spring Park\, MN\, 55384\, United States
CATEGORIES:Music
END:VEVENT
BEGIN:VEVENT
DTSTART;TZID=America/Chicago:20260606T140000
DTEND;TZID=America/Chicago:20260606T170000
DTSTAMP:20260421T053001
CREATED:20260327T160059Z
LAST-MODIFIED:20260327T160059Z
UID:12541-1780754400-1780765200@www.lordfletchers.com
SUMMARY:Mike Bustin
DESCRIPTION:
URL:https://www.lordfletchers.com/event/mike-bustin-3/
LOCATION:Lord Fletcher’s Old Lake Lodge\, 3746 Sunset Drive\, Spring Park\, MN\, 55384\, United States
CATEGORIES:Music
END:VEVENT
BEGIN:VEVENT
DTSTART;TZID=America/Chicago:20260607T140000
DTEND;TZID=America/Chicago:20260607T170000
DTSTAMP:20260421T053001
CREATED:20260327T160059Z
LAST-MODIFIED:20260327T160059Z
UID:12542-1780840800-1780851600@www.lordfletchers.com
SUMMARY:Jacuzzi Puma
DESCRIPTION:
URL:https://www.lordfletchers.com/event/jacuzzi-puma-2/
LOCATION:Lord Fletcher’s Old Lake Lodge\, 3746 Sunset Drive\, Spring Park\, MN\, 55384\, United States
CATEGORIES:Music
END:VEVENT
BEGIN:VEVENT
DTSTART;TZID=America/Chicago:20260611T180000
DTEND;TZID=America/Chicago:20260611T210000
DTSTAMP:20260421T053001
CREATED:20260327T160158Z
LAST-MODIFIED:20260327T160158Z
UID:12543-1781200800-1781211600@www.lordfletchers.com
SUMMARY:Junk FM
DESCRIPTION:
URL:https://www.lordfletchers.com/event/junk-fm-2/
LOCATION:Lord Fletcher’s Old Lake Lodge\, 3746 Sunset Drive\, Spring Park\, MN\, 55384\, United States
CATEGORIES:Music
END:VEVENT
BEGIN:VEVENT
DTSTART;TZID=America/Chicago:20260612T180000
DTEND;TZID=America/Chicago:20260612T210000
DTSTAMP:20260421T053001
CREATED:20260327T160159Z
LAST-MODIFIED:20260327T160159Z
UID:12544-1781287200-1781298000@www.lordfletchers.com
SUMMARY:DJ Dimitry Killstorm
DESCRIPTION:
URL:https://www.lordfletchers.com/event/dj-dimitry-killstorm-2/
LOCATION:Lord Fletcher’s Old Lake Lodge\, 3746 Sunset Drive\, Spring Park\, MN\, 55384\, United States
CATEGORIES:Music
END:VEVENT
BEGIN:VEVENT
DTSTART;TZID=America/Chicago:20260613T140000
DTEND;TZID=America/Chicago:20260613T170000
DTSTAMP:20260421T053001
CREATED:20260327T160159Z
LAST-MODIFIED:20260327T160159Z
UID:12545-1781359200-1781370000@www.lordfletchers.com
SUMMARY:Max Johnson
DESCRIPTION:
URL:https://www.lordfletchers.com/event/max-johnson-2/
LOCATION:Lord Fletcher’s Old Lake Lodge\, 3746 Sunset Drive\, Spring Park\, MN\, 55384\, United States
CATEGORIES:Music
END:VEVENT
BEGIN:VEVENT
DTSTART;TZID=America/Chicago:20260614T140000
DTEND;TZID=America/Chicago:20260614T170000
DTSTAMP:20260421T053001
CREATED:20260327T160159Z
LAST-MODIFIED:20260327T160159Z
UID:12546-1781445600-1781456400@www.lordfletchers.com
SUMMARY:The Mags
DESCRIPTION:
URL:https://www.lordfletchers.com/event/the-mags/
LOCATION:Lord Fletcher’s Old Lake Lodge\, 3746 Sunset Drive\, Spring Park\, MN\, 55384\, United States
CATEGORIES:Music
END:VEVENT
BEGIN:VEVENT
DTSTART;TZID=America/Chicago:20260618T180000
DTEND;TZID=America/Chicago:20260618T210000
DTSTAMP:20260421T053001
CREATED:20260327T160159Z
LAST-MODIFIED:20260327T160159Z
UID:12547-1781805600-1781816400@www.lordfletchers.com
SUMMARY:TBD
DESCRIPTION:
URL:https://www.lordfletchers.com/event/tbd-2/
LOCATION:Lord Fletcher’s Old Lake Lodge\, 3746 Sunset Drive\, Spring Park\, MN\, 55384\, United States
CATEGORIES:Music
END:VEVENT
BEGIN:VEVENT
DTSTART;TZID=America/Chicago:20260619T180000
DTEND;TZID=America/Chicago:20260619T210000
DTSTAMP:20260421T053001
CREATED:20260327T160258Z
LAST-MODIFIED:20260327T160258Z
UID:12548-1781892000-1781902800@www.lordfletchers.com
SUMMARY:TBD
DESCRIPTION:
URL:https://www.lordfletchers.com/event/tbd-3/
LOCATION:Lord Fletcher’s Old Lake Lodge\, 3746 Sunset Drive\, Spring Park\, MN\, 55384\, United States
CATEGORIES:Music
END:VEVENT
BEGIN:VEVENT
DTSTART;TZID=America/Chicago:20260620T140000
DTEND;TZID=America/Chicago:20260620T170000
DTSTAMP:20260421T053001
CREATED:20260327T160259Z
LAST-MODIFIED:20260327T160259Z
UID:12549-1781964000-1781974800@www.lordfletchers.com
SUMMARY:70’s Magic Sunshine Band
DESCRIPTION:
URL:https://www.lordfletchers.com/event/70s-magic-sunshine-band/
LOCATION:Lord Fletcher’s Old Lake Lodge\, 3746 Sunset Drive\, Spring Park\, MN\, 55384\, United States
CATEGORIES:Music
END:VEVENT
BEGIN:VEVENT
DTSTART;TZID=America/Chicago:20260621T140000
DTEND;TZID=America/Chicago:20260621T170000
DTSTAMP:20260421T053001
CREATED:20260327T160259Z
LAST-MODIFIED:20260327T160259Z
UID:12550-1782050400-1782061200@www.lordfletchers.com
SUMMARY:Ragtown
DESCRIPTION:
URL:https://www.lordfletchers.com/event/ragtown/
LOCATION:Lord Fletcher’s Old Lake Lodge\, 3746 Sunset Drive\, Spring Park\, MN\, 55384\, United States
CATEGORIES:Music
END:VEVENT
BEGIN:VEVENT
DTSTART;TZID=America/Chicago:20260625T180000
DTEND;TZID=America/Chicago:20260625T210000
DTSTAMP:20260421T053001
CREATED:20260327T160259Z
LAST-MODIFIED:20260327T160259Z
UID:12551-1782410400-1782421200@www.lordfletchers.com
SUMMARY:G.B. Leighton
DESCRIPTION:
URL:https://www.lordfletchers.com/event/g-b-leighton/
LOCATION:Lord Fletcher’s Old Lake Lodge\, 3746 Sunset Drive\, Spring Park\, MN\, 55384\, United States
CATEGORIES:Music
END:VEVENT
BEGIN:VEVENT
DTSTART;TZID=America/Chicago:20260626T180000
DTEND;TZID=America/Chicago:20260626T210000
DTSTAMP:20260421T053001
CREATED:20260327T160259Z
LAST-MODIFIED:20260327T160259Z
UID:12552-1782496800-1782507600@www.lordfletchers.com
SUMMARY:DJ Dimitry Killstorm
DESCRIPTION:
URL:https://www.lordfletchers.com/event/dj-dimitry-killstorm-3/
LOCATION:Lord Fletcher’s Old Lake Lodge\, 3746 Sunset Drive\, Spring Park\, MN\, 55384\, United States
CATEGORIES:Music
END:VEVENT
BEGIN:VEVENT
DTSTART;TZID=America/Chicago:20260627T140000
DTEND;TZID=America/Chicago:20260627T170000
DTSTAMP:20260421T053001
CREATED:20260327T160358Z
LAST-MODIFIED:20260327T160358Z
UID:12553-1782568800-1782579600@www.lordfletchers.com
SUMMARY:Matt McAllister
DESCRIPTION:
URL:https://www.lordfletchers.com/event/matt-mcallister/
LOCATION:Lord Fletcher’s Old Lake Lodge\, 3746 Sunset Drive\, Spring Park\, MN\, 55384\, United States
CATEGORIES:Music
END:VEVENT
BEGIN:VEVENT
DTSTART;TZID=America/Chicago:20260628T130000
DTEND;TZID=America/Chicago:20260628T170000
DTSTAMP:20260421T053001
CREATED:20260327T160359Z
LAST-MODIFIED:20260327T160359Z
UID:12554-1782651600-1782666000@www.lordfletchers.com
SUMMARY:Yacht Rock
DESCRIPTION:
URL:https://www.lordfletchers.com/event/yacht-rock/
LOCATION:Lord Fletcher’s Old Lake Lodge\, 3746 Sunset Drive\, Spring Park\, MN\, 55384\, United States
CATEGORIES:Music
END:VEVENT
BEGIN:VEVENT
DTSTART;TZID=America/Chicago:20260702T180000
DTEND;TZID=America/Chicago:20260702T210000
DTSTAMP:20260421T053001
CREATED:20260327T160359Z
LAST-MODIFIED:20260327T160359Z
UID:12555-1783015200-1783026000@www.lordfletchers.com
SUMMARY:Ragtown
DESCRIPTION:
URL:https://www.lordfletchers.com/event/ragtown-2/
LOCATION:Lord Fletcher’s Old Lake Lodge\, 3746 Sunset Drive\, Spring Park\, MN\, 55384\, United States
CATEGORIES:Music
END:VEVENT
BEGIN:VEVENT
DTSTART;TZID=America/Chicago:20260703T180000
DTEND;TZID=America/Chicago:20260703T210000
DTSTAMP:20260421T053001
CREATED:20260327T160359Z
LAST-MODIFIED:20260406T220736Z
UID:12556-1783101600-1783112400@www.lordfletchers.com
SUMMARY:SKOOG
DESCRIPTION:  \n 
URL:https://www.lordfletchers.com/event/skoog/
LOCATION:Lord Fletcher’s Old Lake Lodge\, 3746 Sunset Drive\, Spring Park\, MN\, 55384\, United States
CATEGORIES:Music
END:VEVENT
BEGIN:VEVENT
DTSTART;TZID=America/Chicago:20260704T140000
DTEND;TZID=America/Chicago:20260704T170000
DTSTAMP:20260421T053001
CREATED:20260327T160359Z
LAST-MODIFIED:20260327T160359Z
UID:12557-1783173600-1783184400@www.lordfletchers.com
SUMMARY:DJ Dimitry Killstorm
DESCRIPTION:
URL:https://www.lordfletchers.com/event/dj-dimitry-killstorm-4/
LOCATION:Lord Fletcher’s Old Lake Lodge\, 3746 Sunset Drive\, Spring Park\, MN\, 55384\, United States
CATEGORIES:Music
END:VEVENT
BEGIN:VEVENT
DTSTART;TZID=America/Chicago:20260705T140000
DTEND;TZID=America/Chicago:20260705T170000
DTSTAMP:20260421T053001
CREATED:20260327T160459Z
LAST-MODIFIED:20260327T160459Z
UID:12558-1783260000-1783270800@www.lordfletchers.com
SUMMARY:Ali Gray
DESCRIPTION:
URL:https://www.lordfletchers.com/event/ali-gray/
LOCATION:Lord Fletcher’s Old Lake Lodge\, 3746 Sunset Drive\, Spring Park\, MN\, 55384\, United States
CATEGORIES:Music
END:VEVENT
END:VCALENDAR