BEGIN:VCALENDAR
VERSION:2.0
PRODID:-//Lord Fletcher&#039;s Old Lake Lodge - ECPv6.15.20//NONSGML v1.0//EN
CALSCALE:GREGORIAN
METHOD:PUBLISH
X-ORIGINAL-URL:https://www.lordfletchers.com
X-WR-CALDESC:Events for Lord Fletcher&#039;s Old Lake Lodge
REFRESH-INTERVAL;VALUE=DURATION:PT1H
X-Robots-Tag:noindex
X-PUBLISHED-TTL:PT1H
BEGIN:VTIMEZONE
TZID:America/Chicago
BEGIN:DAYLIGHT
TZOFFSETFROM:-0600
TZOFFSETTO:-0500
TZNAME:CDT
DTSTART:20230312T080000
END:DAYLIGHT
BEGIN:STANDARD
TZOFFSETFROM:-0500
TZOFFSETTO:-0600
TZNAME:CST
DTSTART:20231105T070000
END:STANDARD
BEGIN:DAYLIGHT
TZOFFSETFROM:-0600
TZOFFSETTO:-0500
TZNAME:CDT
DTSTART:20240310T080000
END:DAYLIGHT
BEGIN:STANDARD
TZOFFSETFROM:-0500
TZOFFSETTO:-0600
TZNAME:CST
DTSTART:20241103T070000
END:STANDARD
BEGIN:DAYLIGHT
TZOFFSETFROM:-0600
TZOFFSETTO:-0500
TZNAME:CDT
DTSTART:20250309T080000
END:DAYLIGHT
BEGIN:STANDARD
TZOFFSETFROM:-0500
TZOFFSETTO:-0600
TZNAME:CST
DTSTART:20251102T070000
END:STANDARD
END:VTIMEZONE
BEGIN:VEVENT
DTSTART;TZID=America/Chicago:20241101T190000
DTEND;TZID=America/Chicago:20241101T220000
DTSTAMP:20260421T035006
CREATED:20241021T131838Z
LAST-MODIFIED:20241021T131838Z
UID:11735-1730487600-1730498400@www.lordfletchers.com
SUMMARY:Billy Johnson
DESCRIPTION:
URL:https://www.lordfletchers.com/event/billy-johnson-nov1/
LOCATION:Lord Fletcher’s Old Lake Lodge\, 3746 Sunset Drive\, Spring Park\, MN\, 55384\, United States
CATEGORIES:Music
END:VEVENT
BEGIN:VEVENT
DTSTART;TZID=America/Chicago:20241108T190000
DTEND;TZID=America/Chicago:20241108T220000
DTSTAMP:20260421T035006
CREATED:20241021T131923Z
LAST-MODIFIED:20241021T131923Z
UID:11736-1731092400-1731103200@www.lordfletchers.com
SUMMARY:Ali & Joe
DESCRIPTION:
URL:https://www.lordfletchers.com/event/ali-joe-nov8/
LOCATION:Lord Fletcher’s Old Lake Lodge\, 3746 Sunset Drive\, Spring Park\, MN\, 55384\, United States
CATEGORIES:Music
END:VEVENT
BEGIN:VEVENT
DTSTART;TZID=America/Chicago:20241115T190000
DTEND;TZID=America/Chicago:20241115T220000
DTSTAMP:20260421T035006
CREATED:20241021T131953Z
LAST-MODIFIED:20241021T132003Z
UID:11737-1731697200-1731708000@www.lordfletchers.com
SUMMARY:Bjorn Briel
DESCRIPTION:
URL:https://www.lordfletchers.com/event/bjorn-briel-nov15/
LOCATION:Lord Fletcher’s Old Lake Lodge\, 3746 Sunset Drive\, Spring Park\, MN\, 55384\, United States
CATEGORIES:Music
END:VEVENT
BEGIN:VEVENT
DTSTART;TZID=America/Chicago:20241122T190000
DTEND;TZID=America/Chicago:20241122T220000
DTSTAMP:20260421T035006
CREATED:20241021T132036Z
LAST-MODIFIED:20241021T132036Z
UID:11738-1732302000-1732312800@www.lordfletchers.com
SUMMARY:Moedell
DESCRIPTION:
URL:https://www.lordfletchers.com/event/moedell-nov22/
LOCATION:Lord Fletcher’s Old Lake Lodge\, 3746 Sunset Drive\, Spring Park\, MN\, 55384\, United States
CATEGORIES:Music
END:VEVENT
BEGIN:VEVENT
DTSTART;VALUE=DATE:20241129
DTEND;VALUE=DATE:20241130
DTSTAMP:20260421T035006
CREATED:20241030T171233Z
LAST-MODIFIED:20241030T171233Z
UID:11757-1732838400-1732924799@www.lordfletchers.com
SUMMARY:Black Friday Gift Card Special
DESCRIPTION:Buy $100 receive $30 Free!
URL:https://www.lordfletchers.com/event/black-friday-gift-card-special/
LOCATION:Lord Fletcher’s Old Lake Lodge\, 3746 Sunset Drive\, Spring Park\, MN\, 55384\, United States
CATEGORIES:Food & Drink Specials
END:VEVENT
BEGIN:VEVENT
DTSTART;TZID=America/Chicago:20241129T190000
DTEND;TZID=America/Chicago:20241129T220000
DTSTAMP:20260421T035006
CREATED:20241021T132116Z
LAST-MODIFIED:20241021T132116Z
UID:11739-1732906800-1732917600@www.lordfletchers.com
SUMMARY:Mike Bustin
DESCRIPTION:
URL:https://www.lordfletchers.com/event/mike-bustin-nov29/
LOCATION:Lord Fletcher’s Old Lake Lodge\, 3746 Sunset Drive\, Spring Park\, MN\, 55384\, United States
CATEGORIES:Music
END:VEVENT
END:VCALENDAR